BEGIN:VCALENDAR
VERSION:2.0
PRODID:-//KESHO - ECPv6.15.20//NONSGML v1.0//EN
CALSCALE:GREGORIAN
METHOD:PUBLISH
X-ORIGINAL-URL:https://kesho-kenya.org
X-WR-CALDESC:Events for KESHO
REFRESH-INTERVAL;VALUE=DURATION:PT1H
X-Robots-Tag:noindex
X-PUBLISHED-TTL:PT1H
BEGIN:VTIMEZONE
TZID:Africa/Nairobi
BEGIN:STANDARD
TZOFFSETFROM:+0300
TZOFFSETTO:+0300
TZNAME:EAT
DTSTART:20180101T000000
END:STANDARD
END:VTIMEZONE
BEGIN:VEVENT
DTSTART;TZID=Africa/Nairobi:20221027T190000
DTEND;TZID=Africa/Nairobi:20221027T203000
DTSTAMP:20260423T230916
CREATED:20230601T220753Z
LAST-MODIFIED:20250622T142511Z
UID:8264-1666897200-1666902600@kesho-kenya.org
SUMMARY:Hormonal Therapy in Breast Cancer
DESCRIPTION:[vc_row][vc_column][vc_column_text]SPEAKER PROFILES: \nDr Manel Haj Mansour \nManel Haj Mansour is a consultant physician and board certified medical oncologist currently working at the Aga Khan University Hospital. She was formerly a consultant medical oncologist at Texas Cancer Centre\, Nairobi and also worked as a consultant medical oncologist and a lecturer at Abderrahmen University Hospital\, Tunisia. \nDr. Mansour graduated from the Faculty of Medicine of Tunis in 2012 and completed medical oncology residency in 2017. \nShe holds:\n·       A certificate of completion of Oncologic Science Course on line in Breast Cancer\nTreatments from The Africa Breast University.\n·       A certificate of medical oncology training on XXXIIth course antitumor\nchemotherapy and cancer medical treatment at Gustave Roussy Institute Paris\, France.\n·       A post graduate certificate in Prevention and Palliative Care in Oncology\, Faculty of Medicine of Sousse.\n·       A post graduate certificate in Thoracic Oncology\, Faculty of Medicine of Tunis.\n·       A post graduate certificate in Breast Disease\, Faculty of Medicine of Tunis.\nShe is a member of ESMO\, ASCO\, STOM (Tunisian Society of Medical Oncology) and KESHO. Her areas of interest include breast cancer\, lung cancer\, gastrointestinal cancers\, gynecological and genitourinary cancers. \nDr Kevin Makori \nKevin Makori is a Clinical Oncologist at the International Cancer Institute Care and Research Clinic (ICI-CRC)\, Eldoret Kenya. He is involved in cancer patient care and several ongoing immunooncology and haematology clinical trials as a sub investigator at ICI\, under the mentorship of his PI and Director\, Prof Chite Asirwa. \nHe also heads the Education and Training Office at the Institute\, and is involved in teaching and coordination of various oncology capacity building activities. \nDr Makori is a member of the Kenya Society of Haematology and Oncology (KESHO)\, a Global LMIC Associate (Non-Training) Member of the Royal College of Radiologists (RCR) and ASCO. He is a Junior Associate Editor of the RCR’s Clinical Oncology Journal and a current beneficiary of the Journal’s Junior Assistant Editor Mentorship Programme. \nHe is a visiting Clinical Oncologist at Tenwek Hospital and a member of the Hospital’s oncology multidisciplinary team. \nHis key professional interests are in radiation sciences\, immuno-oncology\, clinical trials and oncology education. \nHe received his postgraduate training (MMed Clinical Oncology) at Muhimbili University of Health & Allied Sciences\, a program domiciled at Tanzania’s national oncology referral centre\, Ocean Road Cancer Institute\, Dar es Salaam. \nModerator: Dr Hilda Mubisi  \nHilda Mubisi is a Clinical Oncologist based at the Kakamega Teaching and Referral Hospital. \nShe holds a Bachelor’s of Medicine and Surgery from Moi University and a Masters in clinical Oncology and nuclear medicine from Alexandria University – Egypt. \nDr Mubisi has interest in breast\, colon and gynecological cancers.[/vc_column_text][/vc_column][/vc_row][vc_row][vc_column]    \n    	\n                	Recording                \n        \n    \n    [vc_column_text][vc_row][vc_column][vc_message]Dear Guest\, this content is restricted to only KESHO Members.[/vc_message][vc_row_inner][vc_column_inner width="1/3"]    	\n        Access our Membership Page        \n        [/vc_column_inner][vc_column_inner width="1/3"]    	\n        Fill in the Membership Form        \n        [/vc_column_inner][vc_column_inner width="1/3"]    	\n        Access Membership Portal        \n        [/vc_column_inner][/vc_row_inner][/vc_column][/vc_row] \n[/vc_column_text][/vc_column][/vc_row]
URL:https://kesho-kenya.org/event/hormonal-therapy-in-breast-cancer/
CATEGORIES:CME 2019,Continuing Medical Education (CME)
ATTACH;FMTTYPE=image/jpeg:https://kesho-kenya.org/wp-content/uploads/2023/06/Hormonal-therapy-in-breast-cancer-1.jpg
END:VEVENT
BEGIN:VEVENT
DTSTART;TZID=Africa/Nairobi:20191121T200000
DTEND;TZID=Africa/Nairobi:20191121T220000
DTSTAMP:20260423T230916
CREATED:20210420T152935Z
LAST-MODIFIED:20250622T142511Z
UID:4731-1574366400-1574373600@kesho-kenya.org
SUMMARY:TOPIC: Management of Brain Tumors
DESCRIPTION:[vc_row][vc_column][vc_column_text] \nFinally\, KESHO partnered with the Neurological Society of Kenya to discuss the management of brain tumors with a stimulating surgical perspective from Dr Edwin Mogere Neurosurgeon and an in-depth discussion of management of medical symptoms from brain tumors by Dr Judy Kwasa Neurologist. \n[/vc_column_text][/vc_column][/vc_row]
URL:https://kesho-kenya.org/event/topic-management-of-brain-tumors/
LOCATION:Crowne Plaza Hotel
CATEGORIES:CME 2019,Webinar Recording Available
END:VEVENT
BEGIN:VEVENT
DTSTART;TZID=Africa/Nairobi:20190829T200000
DTEND;TZID=Africa/Nairobi:20190829T220000
DTSTAMP:20260423T230916
CREATED:20210420T153545Z
LAST-MODIFIED:20250622T142511Z
UID:4736-1567108800-1567116000@kesho-kenya.org
SUMMARY:TOPIC: BCR-ABL and OSTEOGENIC SARCOMA
DESCRIPTION:[vc_row][vc_column][vc_column_text]We took a well-deserved break in July 2019 and came back in August for a mixed presentation on CML and osteogenic sarcoma from Prof Nicholas Abinya Medical Oncologist and Dr Mohammed Ezzi Medical Oncologist. The outcome for patients with CML has significantly improved with TKI therapies\, yet challenges persist in adequate monitoring which is expensive. The lack of co-ordinated multidisciplinary care needed for osteogenic sarcoma led to many lost to follow up and incomplete treatments with poor outcomes. MDTs prior to treatment is a potential strategy for reversing this trend.[/vc_column_text][/vc_column][/vc_row]
URL:https://kesho-kenya.org/event/topic-bcr-abl-and-osteogenic-sarcoma/
LOCATION:Sarova Panafric Hotel\, Nairobi\, Kenya.\, Kenya
CATEGORIES:CME 2019,Continuing Medical Education (CME)
END:VEVENT
BEGIN:VEVENT
DTSTART;TZID=Africa/Nairobi:20190829T170000
DTEND;TZID=Africa/Nairobi:20190829T200000
DTSTAMP:20260423T230916
CREATED:20210420T153328Z
LAST-MODIFIED:20250622T142510Z
UID:4734-1567098000-1567108800@kesho-kenya.org
SUMMARY:SSA Breast Cancer
DESCRIPTION:[vc_row][vc_column][vc_column_text]Another busy month for us with three meetings in October. First off\, Prof Asim Jamal Medical Oncologist gave an excellent overview of presentation\, diagnosis and management of neuroendocrine tumors which are not as rare as originally felt. KESHO then partnered with Pathologists Lancet Kenya to discuss molecular diagnostics in hemato-oncology. Speakers from France and our very own experts deliberated on the changing landscape of hemato-oncology and what is practical in our setting. Finally\, a multidisciplinary webinar session on breast cancer concluded our sessions for the month in recognition of the Breast Cancer Awareness month\, with presentations from Dr. Gladwell Kiarie Medical Oncologist\, Dr. Fred Okuku Medical Oncologist\, Dr. Aba Anoa Scott Radiation/Clinical Oncologist and Prof. Ronald Wasike Breast Surgeon.[/vc_column_text][/vc_column][/vc_row]
URL:https://kesho-kenya.org/event/ssa-breast-cancer/
LOCATION:Sarova Panafric Hotel\, Nairobi\, Kenya.\, Kenya
CATEGORIES:CME 2019
END:VEVENT
BEGIN:VEVENT
DTSTART;TZID=Africa/Nairobi:20190627T110000
DTEND;TZID=Africa/Nairobi:20190627T200000
DTSTAMP:20260423T230916
CREATED:20210420T154157Z
LAST-MODIFIED:20250622T142511Z
UID:4738-1561633200-1561665600@kesho-kenya.org
SUMMARY:TOPIC: Paediatric Malignancies; Optimising Care In Acute Leukaemia
DESCRIPTION:[vc_row][vc_column][vc_column_text]We directed our focus on hematology and this time we concentrated on pediatric malignancies. Dr. Jamila Rajab Consultant Haematologist\, Dr. Grace Mbatia Paediatric Oncologist and Dr Festus Njuguna Paediatric Oncologist. We got a glimpse on the myriad challenges our colleagues in hematology face in the management of pediatric hematological malignancies including complicated regimens\, high rate of drop outs and poor supportive care. The outcome was to continue in the process of development of national treatment protocols that can be used which can also help in comparing treatment outcomes in the different settings.[/vc_column_text][/vc_column][/vc_row]
URL:https://kesho-kenya.org/event/topic-paediatric-malignancies-optimising-care-in-acute-leukaemia/
LOCATION:Sarova Panafric Hotel\, Nairobi\, Kenya.\, Kenya
CATEGORIES:CME 2019,Continuing Medical Education (CME)
END:VEVENT
BEGIN:VEVENT
DTSTART;TZID=Africa/Nairobi:20190523T200000
DTEND;TZID=Africa/Nairobi:20190523T220000
DTSTAMP:20260423T230916
CREATED:20210420T154450Z
LAST-MODIFIED:20250622T142511Z
UID:4740-1558641600-1558648800@kesho-kenya.org
SUMMARY:TOPIC: Colon Cancer; A Multidisciplinary Approach
DESCRIPTION:[vc_row][vc_column][vc_column_text]This was a busy month for our members with three educational events! Dr. Joe Ruturi Cardiothoracic Surgeon and Dr. Solomon Mutua Clinical Oncologist started off the month with discussions on upper GI cancers\, in particular esophageal cancer. KESHO collaborated with ROCHE in their sub-Saharan MPANGO two-day meeting in which many of our members were speakers. The conference focused on triple negative and HER2 breast cancer\, colon and lung cancer. The month ended with an excellent multidisciplinary meeting on colon cancer spearheaded by our very own past Chair\, Dr. Gladwell Kiarie Medical Oncologist and Dr. Rajendra Chauhan Surgical Oncologist. There was a lot of input from our surgical and radiation colleagues.[/vc_column_text][/vc_column][/vc_row]
URL:https://kesho-kenya.org/event/topic-colon-cancer-a-multidisciplinary-approach/
LOCATION:Radisson Blu\, Upperhill Nairobi\, Nairobi\, Nairobi\, 00100\, Kenya
CATEGORIES:CME 2019,Continuing Medical Education (CME)
END:VEVENT
BEGIN:VEVENT
DTSTART;TZID=Africa/Nairobi:20190427T200000
DTEND;TZID=Africa/Nairobi:20190427T220000
DTSTAMP:20260423T230916
CREATED:20210420T155152Z
LAST-MODIFIED:20250622T142511Z
UID:4743-1556395200-1556402400@kesho-kenya.org
SUMMARY:TOPIC: HIV Malignancies Symposium
DESCRIPTION:[vc_row][vc_column][vc_column_text]KESHO held a half-day joint symposium with the HIV Clinicians Society discussing the various aspects of HIV related malignancies and how we can better co-manage these patients for improved outcomes. More local research is needed to understand the true prevalence of a co-diagnosis of HIV and cancer and in particular non-AIDS defining malignancies.[/vc_column_text][/vc_column][/vc_row]
URL:https://kesho-kenya.org/event/topic-hiv-malignancies-symposium/
LOCATION:Movenpick Hotel\, Nairobi
CATEGORIES:CME 2019,Continuing Medical Education (CME)
END:VEVENT
BEGIN:VEVENT
DTSTART;TZID=Africa/Nairobi:20190328T000000
DTEND;TZID=Africa/Nairobi:20190328T235959
DTSTAMP:20260423T230916
CREATED:20210421T195426Z
LAST-MODIFIED:20250622T142510Z
UID:4784-1553731200-1553817599@kesho-kenya.org
SUMMARY:Topic: Acute Leukaemia
DESCRIPTION:[vc_row][vc_column][vc_column_text] \nProf. Nicholas Abinya Medical Oncologist and Dr. Anne Mwirigi Haematologist gave stimulating perspectives on their care of patients with AML in a public versus a private setting. This led to discussions on collaborations on improving standards of care in our country and in particular with regards to supportive care and financing. KESHO is now engaging with NHIF and the NCCP to outline a treatment package for these patients that factor other costs apart from direct chemotherapy drugs. \n[/vc_column_text][/vc_column][/vc_row]
URL:https://kesho-kenya.org/event/topic-acute-leukaemia/
LOCATION:Sarova Panafric Hotel\, Nairobi\, Kenya.\, Kenya
CATEGORIES:CME 2019,Continuing Medical Education (CME)
END:VEVENT
BEGIN:VEVENT
DTSTART;TZID=Africa/Nairobi:20190228T000000
DTEND;TZID=Africa/Nairobi:20190228T235959
DTSTAMP:20260423T230916
CREATED:20210421T200249Z
LAST-MODIFIED:20250622T142510Z
UID:4786-1551312000-1551398399@kesho-kenya.org
SUMMARY:Topic: Updates on Recently Launched Cancer Screening Guidelines
DESCRIPTION:[vc_row][vc_column][vc_column_text]In line with the launch of the Kenya Cancer Screening guidelines\, Dr Andrew Odhiambo Medical Oncologist and Dr Primus Ochieng Clinical Oncologist presented on their perspectives on the new guidelines and their experience in other settings outside of Kenya. The Screening Guidelines is as shown below: \n\n\n\n        PDF Loading...\n    \n        \n    \n    \n\n[/vc_column_text][/vc_column][/vc_row]
URL:https://kesho-kenya.org/event/topic-updates-on-recently-launched-cancer-screening-guidelines/
CATEGORIES:CME 2019,Continuing Medical Education (CME)
END:VEVENT
BEGIN:VEVENT
DTSTART;TZID=Africa/Nairobi:20190131T000000
DTEND;TZID=Africa/Nairobi:20190131T235959
DTSTAMP:20260423T230916
CREATED:20210421T200621Z
LAST-MODIFIED:20250622T142510Z
UID:4791-1548892800-1548979199@kesho-kenya.org
SUMMARY:Topic: Updates in Breast Cancer Management
DESCRIPTION:[vc_row][vc_column][vc_column_text] \nWe started off the year discussing the most common cancer in women in Kenya and worldwide with two presentations. Dr Miriam Mutebi Surgical Oncologist gave an update on the surgical techniques of breast cancer management and Dr Njoki Njiriani Clinical Oncologist talking on new therapies for advanced hormone positive breast cancer \n[/vc_column_text][/vc_column][/vc_row]
URL:https://kesho-kenya.org/event/topic-updates-in-breast-cancer-management/
LOCATION:Sarova Panafric Hotel\, Nairobi\, Kenya.\, Kenya
CATEGORIES:CME 2019,Continuing Medical Education (CME)
END:VEVENT
END:VCALENDAR