BEGIN:VCALENDAR
VERSION:2.0
PRODID:-//KESHO - ECPv6.15.20//NONSGML v1.0//EN
CALSCALE:GREGORIAN
METHOD:PUBLISH
X-WR-CALNAME:KESHO
X-ORIGINAL-URL:https://kesho-kenya.org
X-WR-CALDESC:Events for KESHO
REFRESH-INTERVAL;VALUE=DURATION:PT1H
X-Robots-Tag:noindex
X-PUBLISHED-TTL:PT1H
BEGIN:VTIMEZONE
TZID:Africa/Nairobi
BEGIN:STANDARD
TZOFFSETFROM:+0300
TZOFFSETTO:+0300
TZNAME:EAT
DTSTART:20240101T000000
END:STANDARD
END:VTIMEZONE
BEGIN:VEVENT
DTSTART;TZID=Africa/Nairobi:20250326T190000
DTEND;TZID=Africa/Nairobi:20250326T203000
DTSTAMP:20260425T000037
CREATED:20251222T172322Z
LAST-MODIFIED:20251223T152905Z
UID:40769-1743015600-1743021000@kesho-kenya.org
SUMMARY:International Women’s Day Women in Oncology
DESCRIPTION:
URL:https://kesho-kenya.org/event/international-womens-day-women-in-oncology/
CATEGORIES:CME 2026,Continuing Medical Education (CME)
END:VEVENT
BEGIN:VEVENT
DTSTART;TZID=Africa/Nairobi:20250326T190000
DTEND;TZID=Africa/Nairobi:20250326T203000
DTSTAMP:20260425T000037
CREATED:20251223T204036Z
LAST-MODIFIED:20251223T210322Z
UID:40796-1743015600-1743021000@kesho-kenya.org
SUMMARY:Colorectal Cancer
DESCRIPTION:
URL:https://kesho-kenya.org/event/colorectal-cancer-2/
CATEGORIES:CME 2026,Continuing Medical Education (CME)
END:VEVENT
BEGIN:VEVENT
DTSTART;TZID=Africa/Nairobi:20250313T190000
DTEND;TZID=Africa/Nairobi:20250314T203000
DTSTAMP:20260425T000037
CREATED:20251222T171550Z
LAST-MODIFIED:20251223T152912Z
UID:40767-1741892400-1741984200@kesho-kenya.org
SUMMARY:WoCa Summit EA
DESCRIPTION:
URL:https://kesho-kenya.org/event/woca-summit-ea/
CATEGORIES:CME 2026,Continuing Medical Education (CME)
END:VEVENT
BEGIN:VEVENT
DTSTART;TZID=Africa/Nairobi:20250305T190000
DTEND;TZID=Africa/Nairobi:20250305T203000
DTSTAMP:20260425T000037
CREATED:20251222T171137Z
LAST-MODIFIED:20251223T152927Z
UID:40763-1741201200-1741206600@kesho-kenya.org
SUMMARY:Kidney Cancer
DESCRIPTION:
URL:https://kesho-kenya.org/event/kidney-cancer-2/
CATEGORIES:CME 2026,Continuing Medical Education (CME)
END:VEVENT
BEGIN:VEVENT
DTSTART;TZID=Africa/Nairobi:20250219T190000
DTEND;TZID=Africa/Nairobi:20250219T203000
DTSTAMP:20260425T000037
CREATED:20251222T170110Z
LAST-MODIFIED:20251223T152934Z
UID:40761-1739991600-1739997000@kesho-kenya.org
SUMMARY:Gallbladder & Bile Duct Cancer  Awareness
DESCRIPTION:
URL:https://kesho-kenya.org/event/gallbladder-bile-duct-cancer-awareness/
CATEGORIES:CME 2026,Continuing Medical Education (CME)
END:VEVENT
BEGIN:VEVENT
DTSTART;TZID=Africa/Nairobi:20250205T190000
DTEND;TZID=Africa/Nairobi:20250205T203000
DTSTAMP:20260425T000037
CREATED:20251222T165950Z
LAST-MODIFIED:20251223T153047Z
UID:40757-1738782000-1738787400@kesho-kenya.org
SUMMARY:World Cancer Day   Building a Resilient Oncology  Workforce: Addressing Capacity  Gaps in Cancer Management in  Kenya
DESCRIPTION:
URL:https://kesho-kenya.org/event/world-cancer-day-building-a-resilient-oncology-workforce-addressing-capacity-gaps-in-cancer-management-in-kenya/
CATEGORIES:CME 2026,Continuing Medical Education (CME)
END:VEVENT
END:VCALENDAR